BEGIN:VCALENDAR
PRODID:-//SoulAndWolf//SilverStripe//EN
VERSION:2.0
BEGIN:VEVENT
DTSTART;TZID=Australia/Melbourne:20260428T170000
DTEND;TZID=Australia/Melbourne:20260428T173000
DESCRIPTION:https://www.woodards.com.au/property/3139-bradshaw-street-essendon-3040-1890717/
SUMMARY:Inspection at 3/139 Bradshaw Street
LOCATION:3/139 Bradshaw Street, Essendon, VIC 3040
URL:https://www.woodards.com.au/property/3139-bradshaw-street-essendon-3040-1890717/
END:VEVENT
END:VCALENDAR