BEGIN:VCALENDAR
PRODID:-//SoulAndWolf//SilverStripe//EN
VERSION:2.0
BEGIN:VEVENT
DTSTART;TZID=Australia/Melbourne:20250301T110000
DTEND;TZID=Australia/Melbourne:20250301T130000
DESCRIPTION:https://www.woodards.com.au/property/32-mackay-street-essendon-3040-1635784/
SUMMARY:Auction at 32 MacKay Street
LOCATION:32 MacKay Street, Essendon, VIC 3040
URL:https://www.woodards.com.au/property/32-mackay-street-essendon-3040-1635784/
END:VEVENT
END:VCALENDAR