BEGIN:VCALENDAR
PRODID:-//SoulAndWolf//SilverStripe//EN
VERSION:2.0
BEGIN:VEVENT
DTSTART;TZID=Australia/Melbourne:20251213T110000
DTEND;TZID=Australia/Melbourne:20251213T130000
DESCRIPTION:https://www.woodards.com.au/property/32-patterson-avenue-keilor-3036-1831458/
SUMMARY:Auction at 32 Patterson Avenue
LOCATION:32 Patterson Avenue, Keilor, VIC 3036
URL:https://www.woodards.com.au/property/32-patterson-avenue-keilor-3036-1831458/
END:VEVENT
END:VCALENDAR