BEGIN:VCALENDAR
PRODID:-//SoulAndWolf//SilverStripe//EN
VERSION:2.0
BEGIN:VEVENT
DTSTART;TZID=Australia/Melbourne:20250222T123000
DTEND;TZID=Australia/Melbourne:20250222T143000
DESCRIPTION:https://www.woodards.com.au/property/322-argyle-street-moonee-ponds-3039-1630609/
SUMMARY:Auction at 3/22 Argyle Street
LOCATION:3/22 Argyle Street, Moonee Ponds, VIC 3039
URL:https://www.woodards.com.au/property/322-argyle-street-moonee-ponds-3039-1630609/
END:VEVENT
END:VCALENDAR