BEGIN:VCALENDAR
PRODID:-//SoulAndWolf//SilverStripe//EN
VERSION:2.0
BEGIN:VEVENT
DTSTART;TZID=Australia/Melbourne:20251213T140000
DTEND;TZID=Australia/Melbourne:20251213T160000
DESCRIPTION:https://www.woodards.com.au/property/325-gilbert-road-preston-3072-1833453/
SUMMARY:Auction at 325 Gilbert Road
LOCATION:325 Gilbert Road, Preston, VIC 3072
URL:https://www.woodards.com.au/property/325-gilbert-road-preston-3072-1833453/
END:VEVENT
END:VCALENDAR