BEGIN:VCALENDAR
PRODID:-//SoulAndWolf//SilverStripe//EN
VERSION:2.0
BEGIN:VEVENT
DTSTART;TZID=Australia/Melbourne:20251115T110000
DTEND;TZID=Australia/Melbourne:20251115T130000
DESCRIPTION:https://www.woodards.com.au/property/33-1083-1089-glen-huntly-road-glen-huntly-3163-1821187/
SUMMARY:Auction at 33/1083-1089 Glen Huntly Road
LOCATION:33/1083-1089 Glen Huntly Road, Glen Huntly, VIC 3163
URL:https://www.woodards.com.au/property/33-1083-1089-glen-huntly-road-glen-huntly-3163-1821187/
END:VEVENT
END:VCALENDAR