BEGIN:VCALENDAR
PRODID:-//SoulAndWolf//SilverStripe//EN
VERSION:2.0
BEGIN:VEVENT
DTSTART;TZID=Australia/Melbourne:20260428T170000
DTEND;TZID=Australia/Melbourne:20260428T171000
DESCRIPTION:https://www.woodards.com.au/property/33-briardale-drive-werribee-3030-1889655/
SUMMARY:Inspection at 33 Briardale Drive
LOCATION:33 Briardale Drive, Werribee, VIC 3030
URL:https://www.woodards.com.au/property/33-briardale-drive-werribee-3030-1889655/
END:VEVENT
END:VCALENDAR