BEGIN:VCALENDAR
PRODID:-//SoulAndWolf//SilverStripe//EN
VERSION:2.0
BEGIN:VEVENT
DTSTART;TZID=Australia/Melbourne:20260502T120000
DTEND;TZID=Australia/Melbourne:20260502T140000
DESCRIPTION:https://www.woodards.com.au/property/33-derby-crescent-caulfield-east-3145-1886755/
SUMMARY:Auction at 33 Derby Crescent
LOCATION:33 Derby Crescent, Caulfield East, VIC 3145
URL:https://www.woodards.com.au/property/33-derby-crescent-caulfield-east-3145-1886755/
END:VEVENT
END:VCALENDAR