BEGIN:VCALENDAR
PRODID:-//SoulAndWolf//SilverStripe//EN
VERSION:2.0
BEGIN:VEVENT
DTSTART;TZID=Australia/Melbourne:20260425T134500
DTEND;TZID=Australia/Melbourne:20260425T141500
DESCRIPTION:https://www.woodards.com.au/property/33-derby-crescent-caulfield-east-3145-1886755/
SUMMARY:Inspection at 33 Derby Crescent
LOCATION:33 Derby Crescent, Caulfield East, VIC 3145
URL:https://www.woodards.com.au/property/33-derby-crescent-caulfield-east-3145-1886755/
END:VEVENT
END:VCALENDAR