BEGIN:VCALENDAR
PRODID:-//SoulAndWolf//SilverStripe//EN
VERSION:2.0
BEGIN:VEVENT
DTSTART;TZID=Australia/Melbourne:20241218T183000
DTEND;TZID=Australia/Melbourne:20241218T203000
DESCRIPTION:https://www.woodards.com.au/property/33-lloyds-avenue-caulfield-east-3145-1609052/
SUMMARY:Auction at 33 Lloyds Avenue
LOCATION:33 Lloyds Avenue, Caulfield East, VIC 3145
URL:https://www.woodards.com.au/property/33-lloyds-avenue-caulfield-east-3145-1609052/
END:VEVENT
END:VCALENDAR