BEGIN:VCALENDAR
PRODID:-//SoulAndWolf//SilverStripe//EN
VERSION:2.0
BEGIN:VEVENT
DTSTART;TZID=Australia/Melbourne:20251206T140000
DTEND;TZID=Australia/Melbourne:20251206T160000
DESCRIPTION:https://www.woodards.com.au/property/33-uvadale-grove-kew-3101-1830073/
SUMMARY:Auction at 33 Uvadale Grove
LOCATION:33 Uvadale Grove, Kew, VIC 3101
URL:https://www.woodards.com.au/property/33-uvadale-grove-kew-3101-1830073/
END:VEVENT
END:VCALENDAR