BEGIN:VCALENDAR
PRODID:-//SoulAndWolf//SilverStripe//EN
VERSION:2.0
BEGIN:VEVENT
DTSTART;TZID=Australia/Melbourne:20250524T110000
DTEND;TZID=Australia/Melbourne:20250524T130000
DESCRIPTION:https://www.woodards.com.au/property/34-braemar-street-essendon-3040-1678686/
SUMMARY:Auction at 34 Braemar Street
LOCATION:34 Braemar Street, Essendon, VIC 3040
URL:https://www.woodards.com.au/property/34-braemar-street-essendon-3040-1678686/
END:VEVENT
END:VCALENDAR