BEGIN:VCALENDAR
PRODID:-//SoulAndWolf//SilverStripe//EN
VERSION:2.0
BEGIN:VEVENT
DTSTART;TZID=Australia/Melbourne:20251030T183000
DTEND;TZID=Australia/Melbourne:20251030T203000
DESCRIPTION:https://www.woodards.com.au/property/342-grandview-street-glenroy-3046-1811882/
SUMMARY:Auction at 3/42 Grandview Street
LOCATION:3/42 Grandview Street, Glenroy, VIC 3046
URL:https://www.woodards.com.au/property/342-grandview-street-glenroy-3046-1811882/
END:VEVENT
END:VCALENDAR