BEGIN:VCALENDAR
PRODID:-//SoulAndWolf//SilverStripe//EN
VERSION:2.0
BEGIN:VEVENT
DTSTART;TZID=Australia/Melbourne:20260425T130000
DTEND;TZID=Australia/Melbourne:20260425T133000
DESCRIPTION:https://www.woodards.com.au/property/35-gibb-street-dandenong-north-3175-1888616/
SUMMARY:Inspection at 35 Gibb Street
LOCATION:35 Gibb Street, Dandenong North, VIC 3175
URL:https://www.woodards.com.au/property/35-gibb-street-dandenong-north-3175-1888616/
END:VEVENT
END:VCALENDAR