BEGIN:VCALENDAR
PRODID:-//SoulAndWolf//SilverStripe//EN
VERSION:2.0
BEGIN:VEVENT
DTSTART;TZID=Australia/Melbourne:20260411T100000
DTEND;TZID=Australia/Melbourne:20260411T120000
DESCRIPTION:https://www.woodards.com.au/property/35-pasadena-crescent-bentleigh-east-3165-1871673/
SUMMARY:Auction at 35 Pasadena Crescent
LOCATION:35 Pasadena Crescent, Bentleigh East, VIC 3165
URL:https://www.woodards.com.au/property/35-pasadena-crescent-bentleigh-east-3165-1871673/
END:VEVENT
END:VCALENDAR