BEGIN:VCALENDAR
PRODID:-//SoulAndWolf//SilverStripe//EN
VERSION:2.0
BEGIN:VEVENT
DTSTART;TZID=Australia/Melbourne:20250914T110000
DTEND;TZID=Australia/Melbourne:20250914T130000
DESCRIPTION:https://www.woodards.com.au/property/352-bambra-road-caulfield-south-3162-1767723/
SUMMARY:Auction at 352 Bambra Road
LOCATION:352 Bambra Road, Caulfield South, VIC 3162
URL:https://www.woodards.com.au/property/352-bambra-road-caulfield-south-3162-1767723/
END:VEVENT
END:VCALENDAR