BEGIN:VCALENDAR
PRODID:-//SoulAndWolf//SilverStripe//EN
VERSION:2.0
BEGIN:VEVENT
DTSTART;TZID=Australia/Melbourne:20260314T110000
DTEND;TZID=Australia/Melbourne:20260314T130000
DESCRIPTION:https://www.woodards.com.au/property/36-capitol-avenue-mckinnon-3204-1849864/
SUMMARY:Auction at 36 Capitol Avenue
LOCATION:36 Capitol Avenue, Mckinnon, VIC 3204
URL:https://www.woodards.com.au/property/36-capitol-avenue-mckinnon-3204-1849864/
END:VEVENT
END:VCALENDAR