BEGIN:VCALENDAR
PRODID:-//SoulAndWolf//SilverStripe//EN
VERSION:2.0
BEGIN:VEVENT
DTSTART;TZID=Australia/Melbourne:20260426T143000
DTEND;TZID=Australia/Melbourne:20260426T144500
DESCRIPTION:https://www.woodards.com.au/property/36-grosvenor-street-niddrie-3042-1860865/
SUMMARY:Inspection at 36 Grosvenor Street
LOCATION:36 Grosvenor Street, Niddrie, VIC 3042
URL:https://www.woodards.com.au/property/36-grosvenor-street-niddrie-3042-1860865/
END:VEVENT
END:VCALENDAR