BEGIN:VCALENDAR
PRODID:-//SoulAndWolf//SilverStripe//EN
VERSION:2.0
BEGIN:VEVENT
DTSTART;TZID=Australia/Melbourne:20231007T110000
DTEND;TZID=Australia/Melbourne:20231007T130000
DESCRIPTION:https://www.woodards.com.au/property/36-stewart-grove-campbellfield-3061-1428861/
SUMMARY:Auction at 36 Stewart Grove
LOCATION:36 Stewart Grove, Campbellfield, VIC 3061
URL:https://www.woodards.com.au/property/36-stewart-grove-campbellfield-3061-1428861/
END:VEVENT
END:VCALENDAR