BEGIN:VCALENDAR
PRODID:-//SoulAndWolf//SilverStripe//EN
VERSION:2.0
BEGIN:VEVENT
DTSTART;TZID=Australia/Melbourne:20251122T103000
DTEND;TZID=Australia/Melbourne:20251122T123000
DESCRIPTION:https://www.woodards.com.au/property/37-scott-grove-kingsbury-3083-1824063/
SUMMARY:Auction at 37 Scott Grove
LOCATION:37 Scott Grove, Kingsbury, VIC 3083
URL:https://www.woodards.com.au/property/37-scott-grove-kingsbury-3083-1824063/
END:VEVENT
END:VCALENDAR