BEGIN:VCALENDAR
PRODID:-//SoulAndWolf//SilverStripe//EN
VERSION:2.0
BEGIN:VEVENT
DTSTART;TZID=Australia/Melbourne:20260314T110000
DTEND;TZID=Australia/Melbourne:20260314T130000
DESCRIPTION:https://www.woodards.com.au/property/37-waranga-crescent-broadmeadows-3047-1861170/
SUMMARY:Auction at 37 Waranga Crescent
LOCATION:37 Waranga Crescent, Broadmeadows, VIC 3047
URL:https://www.woodards.com.au/property/37-waranga-crescent-broadmeadows-3047-1861170/
END:VEVENT
END:VCALENDAR