BEGIN:VCALENDAR
PRODID:-//SoulAndWolf//SilverStripe//EN
VERSION:2.0
BEGIN:VEVENT
DTSTART;TZID=Australia/Melbourne:20260425T153000
DTEND;TZID=Australia/Melbourne:20260425T160000
DESCRIPTION:https://www.woodards.com.au/property/38-little-windrock-lane-craigieburn-3064-1887251/
SUMMARY:Inspection at 38 Little Windrock Lane
LOCATION:38 Little Windrock Lane, Craigieburn, VIC 3064
URL:https://www.woodards.com.au/property/38-little-windrock-lane-craigieburn-3064-1887251/
END:VEVENT
END:VCALENDAR