BEGIN:VCALENDAR
PRODID:-//SoulAndWolf//SilverStripe//EN
VERSION:2.0
BEGIN:VEVENT
DTSTART;TZID=Australia/Melbourne:20260429T164000
DTEND;TZID=Australia/Melbourne:20260429T165000
DESCRIPTION:https://www.woodards.com.au/property/38-newman-rd-mooroolbark-3138-1890417/
SUMMARY:Inspection at 38 Newman Rd
LOCATION:38 Newman Rd, Mooroolbark, VIC 3138
URL:https://www.woodards.com.au/property/38-newman-rd-mooroolbark-3138-1890417/
END:VEVENT
END:VCALENDAR