BEGIN:VCALENDAR
PRODID:-//SoulAndWolf//SilverStripe//EN
VERSION:2.0
BEGIN:VEVENT
DTSTART;TZID=Australia/Melbourne:20260430T123000
DTEND;TZID=Australia/Melbourne:20260430T130000
DESCRIPTION:https://www.woodards.com.au/property/38b-kombi-road-clayton-south-3169-1891359/
SUMMARY:Inspection at 38B Kombi Road
LOCATION:38B Kombi Road, Clayton South, VIC 3169
URL:https://www.woodards.com.au/property/38b-kombi-road-clayton-south-3169-1891359/
END:VEVENT
END:VCALENDAR