BEGIN:VCALENDAR
PRODID:-//SoulAndWolf//SilverStripe//EN
VERSION:2.0
BEGIN:VEVENT
DTSTART;TZID=Australia/Melbourne:20251220T100000
DTEND;TZID=Australia/Melbourne:20251220T120000
DESCRIPTION:https://www.woodards.com.au/property/39-separation-street-fairfield-3078-1836383/
SUMMARY:Auction at 39 Separation Street
LOCATION:39 Separation Street, Fairfield, VIC 3078
URL:https://www.woodards.com.au/property/39-separation-street-fairfield-3078-1836383/
END:VEVENT
END:VCALENDAR