BEGIN:VCALENDAR
PRODID:-//SoulAndWolf//SilverStripe//EN
VERSION:2.0
BEGIN:VEVENT
DTSTART;TZID=Australia/Melbourne:20250809T103000
DTEND;TZID=Australia/Melbourne:20250809T123000
DESCRIPTION:https://www.woodards.com.au/property/4-103-105-st-vigeons-road-reservoir-3073-1737159/
SUMMARY:Auction at 4/103-105 St Vigeons Road
LOCATION:4/103-105 St Vigeons Road, Reservoir, VIC 3073
URL:https://www.woodards.com.au/property/4-103-105-st-vigeons-road-reservoir-3073-1737159/
END:VEVENT
END:VCALENDAR