BEGIN:VCALENDAR
PRODID:-//SoulAndWolf//SilverStripe//EN
VERSION:2.0
BEGIN:VEVENT
DTSTART;TZID=Australia/Melbourne:20251011T110000
DTEND;TZID=Australia/Melbourne:20251011T130000
DESCRIPTION:https://www.woodards.com.au/property/4-2-conway-court-boronia-3155-1782430/
SUMMARY:Auction at 4/2 Conway Court
LOCATION:4/2 Conway Court, Boronia, VIC 3155
URL:https://www.woodards.com.au/property/4-2-conway-court-boronia-3155-1782430/
END:VEVENT
END:VCALENDAR