BEGIN:VCALENDAR
PRODID:-//SoulAndWolf//SilverStripe//EN
VERSION:2.0
BEGIN:VEVENT
DTSTART;TZID=Australia/Melbourne:20250802T130000
DTEND;TZID=Australia/Melbourne:20250802T150000
DESCRIPTION:https://www.woodards.com.au/property/4-210-miller-street-fitzroy-north-3068-1735736/
SUMMARY:Auction at 4/210 Miller Street
LOCATION:4/210 Miller Street, Fitzroy North, VIC 3068
URL:https://www.woodards.com.au/property/4-210-miller-street-fitzroy-north-3068-1735736/
END:VEVENT
END:VCALENDAR