BEGIN:VCALENDAR
PRODID:-//SoulAndWolf//SilverStripe//EN
VERSION:2.0
BEGIN:VEVENT
DTSTART;TZID=Australia/Melbourne:20250329T103000
DTEND;TZID=Australia/Melbourne:20250329T123000
DESCRIPTION:https://www.woodards.com.au/property/4-22-24-thomson-street-northcote-3070-1647724/
SUMMARY:Auction at 4/22-24 Thomson Street
LOCATION:4/22-24 Thomson Street, Northcote, VIC 3070
URL:https://www.woodards.com.au/property/4-22-24-thomson-street-northcote-3070-1647724/
END:VEVENT
END:VCALENDAR