BEGIN:VCALENDAR
PRODID:-//SoulAndWolf//SilverStripe//EN
VERSION:2.0
BEGIN:VEVENT
DTSTART;TZID=Australia/Melbourne:20260502T133000
DTEND;TZID=Australia/Melbourne:20260502T153000
DESCRIPTION:https://www.woodards.com.au/property/4-237-glen-eira-road-caulfield-north-3161-1886087/
SUMMARY:Auction at 4/237 Glen Eira Road
LOCATION:4/237 Glen Eira Road, Caulfield North, VIC 3161
URL:https://www.woodards.com.au/property/4-237-glen-eira-road-caulfield-north-3161-1886087/
END:VEVENT
END:VCALENDAR