BEGIN:VCALENDAR
PRODID:-//SoulAndWolf//SilverStripe//EN
VERSION:2.0
BEGIN:VEVENT
DTSTART;TZID=Australia/Melbourne:20260221T110000
DTEND;TZID=Australia/Melbourne:20260221T130000
DESCRIPTION:https://www.woodards.com.au/property/4-32-newham-grove-ormond-3204-1853992/
SUMMARY:Auction at 4/32 Newham Grove
LOCATION:4/32 Newham Grove, Ormond, VIC 3204
URL:https://www.woodards.com.au/property/4-32-newham-grove-ormond-3204-1853992/
END:VEVENT
END:VCALENDAR