BEGIN:VCALENDAR
PRODID:-//SoulAndWolf//SilverStripe//EN
VERSION:2.0
BEGIN:VEVENT
DTSTART;TZID=Australia/Melbourne:20260502T103000
DTEND;TZID=Australia/Melbourne:20260502T110000
DESCRIPTION:https://www.woodards.com.au/property/4-33-sandown-road-ascot-vale-3032-1891166/
SUMMARY:Inspection at 4/33 Sandown Road
LOCATION:4/33 Sandown Road, Ascot Vale, VIC 3032
URL:https://www.woodards.com.au/property/4-33-sandown-road-ascot-vale-3032-1891166/
END:VEVENT
END:VCALENDAR