BEGIN:VCALENDAR
PRODID:-//SoulAndWolf//SilverStripe//EN
VERSION:2.0
BEGIN:VEVENT
DTSTART;TZID=Australia/Melbourne:20250322T110000
DTEND;TZID=Australia/Melbourne:20250322T130000
DESCRIPTION:https://www.woodards.com.au/property/4-35-cash-street-kingsbury-3083-1644744/
SUMMARY:Auction at 4/35 Cash Street
LOCATION:4/35 Cash Street, Kingsbury, VIC 3083
URL:https://www.woodards.com.au/property/4-35-cash-street-kingsbury-3083-1644744/
END:VEVENT
END:VCALENDAR