BEGIN:VCALENDAR
PRODID:-//SoulAndWolf//SilverStripe//EN
VERSION:2.0
BEGIN:VEVENT
DTSTART;TZID=Australia/Melbourne:20260425T130000
DTEND;TZID=Australia/Melbourne:20260425T133000
DESCRIPTION:https://www.woodards.com.au/property/4-46-halpin-street-brunswick-west-3055-1886247/
SUMMARY:Inspection at 4/46 Halpin Street
LOCATION:4/46 Halpin Street, Brunswick West, VIC 3055
URL:https://www.woodards.com.au/property/4-46-halpin-street-brunswick-west-3055-1886247/
END:VEVENT
END:VCALENDAR