BEGIN:VCALENDAR
PRODID:-//SoulAndWolf//SilverStripe//EN
VERSION:2.0
BEGIN:VEVENT
DTSTART;TZID=Australia/Melbourne:20230812T103000
DTEND;TZID=Australia/Melbourne:20230812T123000
DESCRIPTION:https://www.woodards.com.au/property/4-5a-argyle-street-bentleigh-east-3165-1406557/
SUMMARY:Auction at 4/5A Argyle Street
LOCATION:4/5A Argyle Street, Bentleigh East, VIC 3165
URL:https://www.woodards.com.au/property/4-5a-argyle-street-bentleigh-east-3165-1406557/
END:VEVENT
END:VCALENDAR