BEGIN:VCALENDAR
PRODID:-//SoulAndWolf//SilverStripe//EN
VERSION:2.0
BEGIN:VEVENT
DTSTART;TZID=Australia/Melbourne:20260425T153000
DTEND;TZID=Australia/Melbourne:20260425T160000
DESCRIPTION:https://www.woodards.com.au/property/4-6-rosedale-avenue-glen-huntly-3163-1886634/
SUMMARY:Inspection at 4/6 Rosedale Avenue
LOCATION:4/6 Rosedale Avenue, Glen Huntly, VIC 3163
URL:https://www.woodards.com.au/property/4-6-rosedale-avenue-glen-huntly-3163-1886634/
END:VEVENT
END:VCALENDAR