BEGIN:VCALENDAR
PRODID:-//SoulAndWolf//SilverStripe//EN
VERSION:2.0
BEGIN:VEVENT
DTSTART;TZID=Australia/Melbourne:20260321T110000
DTEND;TZID=Australia/Melbourne:20260321T130000
DESCRIPTION:https://www.woodards.com.au/property/4-9-maroona-road-carnegie-3163-1868775/
SUMMARY:Auction at 4/9 Maroona Road
LOCATION:4/9 Maroona Road, Carnegie, VIC 3163
URL:https://www.woodards.com.au/property/4-9-maroona-road-carnegie-3163-1868775/
END:VEVENT
END:VCALENDAR