BEGIN:VCALENDAR
PRODID:-//SoulAndWolf//SilverStripe//EN
VERSION:2.0
BEGIN:VEVENT
DTSTART;TZID=Australia/Melbourne:20251213T123000
DTEND;TZID=Australia/Melbourne:20251213T143000
DESCRIPTION:https://www.woodards.com.au/property/4-carrum-street-malvern-east-3145-1831582/
SUMMARY:Auction at 4 Carrum Street
LOCATION:4 Carrum Street, Malvern East, VIC 3145
URL:https://www.woodards.com.au/property/4-carrum-street-malvern-east-3145-1831582/
END:VEVENT
END:VCALENDAR