BEGIN:VCALENDAR
PRODID:-//SoulAndWolf//SilverStripe//EN
VERSION:2.0
BEGIN:VEVENT
DTSTART;TZID=Australia/Melbourne:20260228T140000
DTEND;TZID=Australia/Melbourne:20260228T160000
DESCRIPTION:https://www.woodards.com.au/property/4-parramatta-road-keilor-3036-1855090/
SUMMARY:Auction at 4 Parramatta Road
LOCATION:4 Parramatta Road, Keilor, VIC 3036
URL:https://www.woodards.com.au/property/4-parramatta-road-keilor-3036-1855090/
END:VEVENT
END:VCALENDAR