BEGIN:VCALENDAR
PRODID:-//SoulAndWolf//SilverStripe//EN
VERSION:2.0
BEGIN:VEVENT
DTSTART;TZID=Australia/Melbourne:20260221T100000
DTEND;TZID=Australia/Melbourne:20260221T120000
DESCRIPTION:https://www.woodards.com.au/property/4-wallace-street-bentleigh-east-3165-1853772/
SUMMARY:Auction at 4 Wallace Street
LOCATION:4 Wallace Street, Bentleigh East, VIC 3165
URL:https://www.woodards.com.au/property/4-wallace-street-bentleigh-east-3165-1853772/
END:VEVENT
END:VCALENDAR