BEGIN:VCALENDAR
PRODID:-//SoulAndWolf//SilverStripe//EN
VERSION:2.0
BEGIN:VEVENT
DTSTART;TZID=Australia/Melbourne:20260502T123000
DTEND;TZID=Australia/Melbourne:20260502T143000
DESCRIPTION:https://www.woodards.com.au/property/414-station-street-carlton-north-3054-1886405/
SUMMARY:Auction at 414 Station Street
LOCATION:414 Station Street, Carlton North, VIC 3054
URL:https://www.woodards.com.au/property/414-station-street-carlton-north-3054-1886405/
END:VEVENT
END:VCALENDAR