BEGIN:VCALENDAR
PRODID:-//SoulAndWolf//SilverStripe//EN
VERSION:2.0
BEGIN:VEVENT
DTSTART;TZID=Australia/Melbourne:20250215T110000
DTEND;TZID=Australia/Melbourne:20250215T130000
DESCRIPTION:https://www.woodards.com.au/property/42-elder-parade-essendon-3040-1628085/
SUMMARY:Auction at 42 Elder Parade
LOCATION:42 Elder Parade, Essendon, VIC 3040
URL:https://www.woodards.com.au/property/42-elder-parade-essendon-3040-1628085/
END:VEVENT
END:VCALENDAR