BEGIN:VCALENDAR
PRODID:-//SoulAndWolf//SilverStripe//EN
VERSION:2.0
BEGIN:VEVENT
DTSTART;TZID=Australia/Melbourne:20260214T133000
DTEND;TZID=Australia/Melbourne:20260214T153000
DESCRIPTION:https://www.woodards.com.au/property/43-seston-street-reservoir-3073-1843088/
SUMMARY:Auction at 43 Seston Street
LOCATION:43 Seston Street, Reservoir, VIC 3073
URL:https://www.woodards.com.au/property/43-seston-street-reservoir-3073-1843088/
END:VEVENT
END:VCALENDAR