BEGIN:VCALENDAR
PRODID:-//SoulAndWolf//SilverStripe//EN
VERSION:2.0
BEGIN:VEVENT
DTSTART;TZID=Australia/Melbourne:20251011T113000
DTEND;TZID=Australia/Melbourne:20251011T133000
DESCRIPTION:https://www.woodards.com.au/property/44-lane-crescent-reservoir-3073-1780207/
SUMMARY:Auction at 44 Lane Crescent
LOCATION:44 Lane Crescent, Reservoir, VIC 3073
URL:https://www.woodards.com.au/property/44-lane-crescent-reservoir-3073-1780207/
END:VEVENT
END:VCALENDAR