BEGIN:VCALENDAR
PRODID:-//SoulAndWolf//SilverStripe//EN
VERSION:2.0
BEGIN:VEVENT
DTSTART;TZID=Australia/Melbourne:20260516T103000
DTEND;TZID=Australia/Melbourne:20260516T110000
DESCRIPTION:https://www.woodards.com.au/property/449-albert-street-brunswick-3056-1891877/
SUMMARY:Inspection at 449 Albert Street
LOCATION:449 Albert Street, Brunswick, VIC 3056
URL:https://www.woodards.com.au/property/449-albert-street-brunswick-3056-1891877/
END:VEVENT
END:VCALENDAR