BEGIN:VCALENDAR
PRODID:-//SoulAndWolf//SilverStripe//EN
VERSION:2.0
BEGIN:VEVENT
DTSTART;TZID=Australia/Melbourne:20251206T113000
DTEND;TZID=Australia/Melbourne:20251206T133000
DESCRIPTION:https://www.woodards.com.au/property/46-austin-street-hughesdale-3166-1829191/
SUMMARY:Auction at 46 Austin Street
LOCATION:46 Austin Street, Hughesdale, VIC 3166
URL:https://www.woodards.com.au/property/46-austin-street-hughesdale-3166-1829191/
END:VEVENT
END:VCALENDAR