BEGIN:VCALENDAR
PRODID:-//SoulAndWolf//SilverStripe//EN
VERSION:2.0
BEGIN:VEVENT
DTSTART;TZID=Australia/Melbourne:20260509T103000
DTEND;TZID=Australia/Melbourne:20260509T123000
DESCRIPTION:https://www.woodards.com.au/property/47-queens-avenue-oakleigh-3166-1887623/
SUMMARY:Auction at 47 Queens Avenue
LOCATION:47 Queens Avenue, Oakleigh, VIC 3166
URL:https://www.woodards.com.au/property/47-queens-avenue-oakleigh-3166-1887623/
END:VEVENT
END:VCALENDAR