BEGIN:VCALENDAR
PRODID:-//SoulAndWolf//SilverStripe//EN
VERSION:2.0
BEGIN:VEVENT
DTSTART;TZID=Australia/Melbourne:20260423T120000
DTEND;TZID=Australia/Melbourne:20260423T123000
DESCRIPTION:https://www.woodards.com.au/property/47-queens-avenue-oakleigh-3166-1887623/
SUMMARY:Inspection at 47 Queens Avenue
LOCATION:47 Queens Avenue, Oakleigh, VIC 3166
URL:https://www.woodards.com.au/property/47-queens-avenue-oakleigh-3166-1887623/
END:VEVENT
END:VCALENDAR