BEGIN:VCALENDAR
PRODID:-//SoulAndWolf//SilverStripe//EN
VERSION:2.0
BEGIN:VEVENT
DTSTART;TZID=Australia/Melbourne:20260425T143000
DTEND;TZID=Australia/Melbourne:20260425T150000
DESCRIPTION:https://www.woodards.com.au/property/5-10-dalny-road-murrumbeena-3163-1889669/
SUMMARY:Inspection at 5/10 Dalny Road
LOCATION:5/10 Dalny Road, Murrumbeena, VIC 3163
URL:https://www.woodards.com.au/property/5-10-dalny-road-murrumbeena-3163-1889669/
END:VEVENT
END:VCALENDAR