BEGIN:VCALENDAR
PRODID:-//SoulAndWolf//SilverStripe//EN
VERSION:2.0
BEGIN:VEVENT
DTSTART;TZID=Australia/Melbourne:20260425T134500
DTEND;TZID=Australia/Melbourne:20260425T140000
DESCRIPTION:https://www.woodards.com.au/property/5-121-st-georges-road-northcote-3070-1891891/
SUMMARY:Inspection at 5/121 St Georges Road
LOCATION:5/121 St Georges Road, Northcote, VIC 3070
URL:https://www.woodards.com.au/property/5-121-st-georges-road-northcote-3070-1891891/
END:VEVENT
END:VCALENDAR